BEGIN:VCALENDAR
VERSION:2.0
PRODID:-//見つける！オフ会・ミーティングサーチ - ECPv4.9.12//NONSGML v1.0//EN
CALSCALE:GREGORIAN
METHOD:PUBLISH
X-WR-CALNAME:見つける！オフ会・ミーティングサーチ
X-ORIGINAL-URL:https://carmeet-search.onesgarage.com
X-WR-CALDESC:見つける！オフ会・ミーティングサーチ のイベント
BEGIN:VTIMEZONE
TZID:Asia/Tokyo
BEGIN:STANDARD
TZOFFSETFROM:+0900
TZOFFSETTO:+0900
TZNAME:JST
DTSTART:20210101T000000
END:STANDARD
END:VTIMEZONE
BEGIN:VEVENT
DTSTART;TZID=Asia/Tokyo:20210809T080000
DTEND;TZID=Asia/Tokyo:20210809T170000
DTSTAMP:20260419T130253
CREATED:20210518T145336Z
LAST-MODIFIED:20210518T145339Z
UID:275-1628496000-1628528400@carmeet-search.onesgarage.com
SUMMARY:GENEUINE WHEELS JP
DESCRIPTION:\n\n\n情報ソース：https://genuine-wheels-mt.jimdosite.com/ \n\n\n\n\n\n\n\n\n\n\n
URL:https://carmeet-search.onesgarage.com/event/275
CATEGORIES:コンセプト系,ミーティング,東海
ATTACH;FMTTYPE=image/jpeg:https://carmeet-search.onesgarage.com/wp-content/uploads/2021/05/bandicam-2021-05-18-23-50-01-403.jpg
END:VEVENT
END:VCALENDAR