BEGIN:VCALENDAR
VERSION:2.0
PRODID:-//見つける！オフ会・ミーティングサーチ - ECPv4.9.12//NONSGML v1.0//EN
CALSCALE:GREGORIAN
METHOD:PUBLISH
X-WR-CALNAME:見つける！オフ会・ミーティングサーチ
X-ORIGINAL-URL:https://carmeet-search.onesgarage.com
X-WR-CALDESC:見つける！オフ会・ミーティングサーチ のイベント
BEGIN:VTIMEZONE
TZID:Asia/Tokyo
BEGIN:STANDARD
TZOFFSETFROM:+0900
TZOFFSETTO:+0900
TZNAME:JST
DTSTART:20210101T000000
END:STANDARD
END:VTIMEZONE
BEGIN:VEVENT
DTSTART;TZID=Asia/Tokyo:20210606T080000
DTEND;TZID=Asia/Tokyo:20210606T170000
DTSTAMP:20260419T232224
CREATED:20210518T153322Z
LAST-MODIFIED:20210518T153326Z
UID:291-1622966400-1622998800@carmeet-search.onesgarage.com
SUMMARY:PRIUS交友会
DESCRIPTION:\n\n\n情報ソース：https://twitter.com/kazu75892254/status/1390930952948305924?s=29 \n\n\n\n\n\n\n\n\n\n\n
URL:https://carmeet-search.onesgarage.com/event/291
LOCATION:京都嵐山高雄パークウェイ\, 米国
CATEGORIES:車種別,関西
ATTACH;FMTTYPE=image/jpeg:https://carmeet-search.onesgarage.com/wp-content/uploads/2021/05/bandicam-2021-05-19-00-32-42-263.jpg
END:VEVENT
END:VCALENDAR