BEGIN:VCALENDAR
VERSION:2.0
PRODID:-//見つける！オフ会・ミーティングサーチ - ECPv4.9.12//NONSGML v1.0//EN
CALSCALE:GREGORIAN
METHOD:PUBLISH
X-WR-CALNAME:見つける！オフ会・ミーティングサーチ
X-ORIGINAL-URL:https://carmeet-search.onesgarage.com
X-WR-CALDESC:見つける！オフ会・ミーティングサーチ のイベント
BEGIN:VTIMEZONE
TZID:Asia/Tokyo
BEGIN:STANDARD
TZOFFSETFROM:+0900
TZOFFSETTO:+0900
TZNAME:JST
DTSTART:20210101T000000
END:STANDARD
END:VTIMEZONE
BEGIN:VEVENT
DTSTART;TZID=Asia/Tokyo:20210926T100000
DTEND;TZID=Asia/Tokyo:20210926T170000
DTSTAMP:20260419T160816
CREATED:20210906T002528Z
LAST-MODIFIED:20210906T002529Z
UID:334-1632650400-1632675600@carmeet-search.onesgarage.com
SUMMARY:RX-8ミーティング in 京都高雄パークウェイ
DESCRIPTION:\n\n\n情報ソース：https://twitter.com/eightlien/status/1429828122770231297?s=21\n\n\n\n
URL:https://carmeet-search.onesgarage.com/event/334
CATEGORIES:ミーティング,車種別,関西
ATTACH;FMTTYPE=image/jpeg:https://carmeet-search.onesgarage.com/wp-content/uploads/2021/09/RX-8ミーティング-in-京都高雄パークウェイ.jpg
END:VEVENT
END:VCALENDAR