BEGIN:VCALENDAR
VERSION:2.0
PRODID:-//見つける！オフ会・ミーティングサーチ - ECPv4.9.12//NONSGML v1.0//EN
CALSCALE:GREGORIAN
METHOD:PUBLISH
X-WR-CALNAME:見つける！オフ会・ミーティングサーチ
X-ORIGINAL-URL:https://carmeet-search.onesgarage.com
X-WR-CALDESC:見つける！オフ会・ミーティングサーチ のイベント
BEGIN:VTIMEZONE
TZID:Asia/Tokyo
BEGIN:STANDARD
TZOFFSETFROM:+0900
TZOFFSETTO:+0900
TZNAME:JST
DTSTART:20210101T000000
END:STANDARD
END:VTIMEZONE
BEGIN:VEVENT
DTSTART;TZID=Asia/Tokyo:20211010T080000
DTEND;TZID=Asia/Tokyo:20211010T170000
DTSTAMP:20260419T130252
CREATED:20210920T002329Z
LAST-MODIFIED:20210920T002332Z
UID:339-1633852800-1633885200@carmeet-search.onesgarage.com
SUMMARY:W-Option JAMBOREE
DESCRIPTION:\n\n\n情報ソース：https://www.google.co.jp/amp/s/motor-fan.jp/weboption/article/3201/%3famp=1\n\n\n\n
URL:https://carmeet-search.onesgarage.com/event/339
LOCATION:富士スピードウェイ\, 中日向694\, 駿東郡小山町\, 静岡県\, 410-1307\, 日本
CATEGORIES:オールジャンル,東海
ATTACH;FMTTYPE=image/jpeg:https://carmeet-search.onesgarage.com/wp-content/uploads/2021/09/W-Option-JAMBOREE.jpg
END:VEVENT
END:VCALENDAR